Workbook

Sheet C-Teil Aufteilung
A1: C-Topf-Vereinbarung SJ | D1: =Jahresnorm!B1 -> 2026/2027 | E1: =Jahresnorm!I2 -> Version:11.03.2026 | G1: Eingabefelder grün
A2: Aufteilung der Jahresnorm gem. § 43 LDG 1984 (nicht für pd-Lehrpersonen)
D3: =IF(F4="","Geburtsdatum muss eingegeben werden","") -> Geburtsdatum muss eingegeben werden
A4: Name | E4: Geburtsdatum | G4: Jahresnorm bei voller LV | I4: =IF($F$4<$J$5,$K$5,$K$4) -> 1736 | J4: Ref.Dat.Urlaub | K4: =Jahresnorm!E10 -> 1776
A5: Unterrichtsverpflichtung | C5: Basis 21, 22 | G5: Anzahl der Schulwochen | I5: =Jahresnorm!D2 -> 36 | J5: =Jahresnorm!M4 -> 30742 | K5: =Jahresnorm!K10 -> 1736
A6: wöchentl. UV | G6: =IF($F$4<$J$5,"43. Geburtstag vor 1. März des Schuljahres, daher verminderte Jahresnorm","") -> 43. Geburtstag vor 1. März des Schuljahres, daher verminderte Jahresnorm
A7: Unterschreitung (IT,Bibl.,usw) | C7: =IF($B$6+$B$7<$B$5,"Teilbesch. %","Vollbesch. %") -> Vollbesch. % | D7: =IF($B$5<"",ROUND(100/$B$5*($B$6+$B$7),2),"") | E7: =IF($B$6+$B$7>$B$5,"WStd höher als Basis??","")
A9: Jahresnorm aufgrund UV | B9: =IF($B$5="","0",ROUNDDOWN($I$4/100*$D$7,0)) -> 0 | C9: =IF($B$6+$B$7<$B$5,"Verminderung aufgrund Teilbeschäftigung","")
A10: Aufgabenbereich A | B10: =ROUND($B$6*$I$5,0) -> 0 | C10: § 43 (1) Z 1 LDG
A11: Aufgabenbereich B | B11: =ROUND($B$10*5/6,0) -> 0 | C11: § 43 (1) Z 2 LDG
A12: Aufgabenbereich C | B12: =$B$9-$B$10-$B$11 -> 0 | C12: § 43 (1) Z 3 LDG
A14: Aufteilung des Aufgabenbereiches C gemäß § 43 (3) LDG; aufzuteilende Std. im SJ | F14: =$B$12 -> 0
A16: Sonstige lehramtliche Pflichen | C16: § 43 (3) Z 1 LDG | D16: =IF($B$5="","0",ROUND(100/100*$D$7,0)) -> 0
A17: Klassenvorstand (Ja, Nein) | B17: Nein | C17: § 43 (3) Z 2 LDG | D17: =IF($B$17="Ja",66,"0") -> 0
A18: Vertretung | C18: § 43 (3) Z 3 LDG | D18: =IF($B$5="","0",ROUND(20/100*$D$7,0)) -> 0
A19: Fortbildung | C19: § 43 (3) Z 4 LDG | D19: =IF($B$5="","0",ROUNDDOWN(15/100*$D$7,0)) -> 0
A20: Summe der gesetzl. festgelegten Tätigkeiten | F20: =SUM($D$16:$D$19) -> 0
A22: Noch zu vereinbarende C-Topf-Stunden | C22: § 43 (3) Z 5 LDG | E22: =$F$14-$F$20 -> 0
A23: Fixe Zuordnung lt. Unterschreitung (IT, Bibl., usw) | E23: =IF($B$7=0,"",$B$7*2*$I$5)
A53: Summe vereinbarte C-Topf-Stunden | F53: =SUM($E$23:$E$52) -> 0
A54: Summe aller Tätigkeiten im Aufgabenbereich C | F54: =SUM($F$53+$F$20) -> 0 | G54: =$F$54-$F$14 -> 0 | H54: =IF(G54=0,"Differenz",IF(G54>0,"Std. Überschreitung","Std. Unterschreitung")) -> Differenz
C56: Datum
A57: Unterschrift Schulleitung | D57: Unterschrift Lehrperson
A58: =IF($B$10+$B$11+$F$54<$B$9,"Achtung Unterschreitung Jahresnorm nicht gestattet","") -> Achtung Unterschreitung Jahresnorm nicht gestattet
A59: =IF($B$10+$B$11+$F$54>$B$9,"Achtung Überschreitung Jahresnorm nicht gestattet","")

Sheet Jahresnorm
A1: Schuljahr | B1: 2026/2027 | D1: Jahresnormtabelle für voll- und teilbeschäftigte LehrerInnen an APS (Altrecht)
A2: Anzahl der Unterrichtswochen: | D2: 36 | I2: Version:11.03.2026
D4: Geburtsdatum nach dem | G4: 30740 | J4: Geburtsdatum vor dem | M4: 30742
D5: Jahresnorm | G5: =IF(D2=37,1816,1776) -> 1776 | J5: Jahresnorm | M5: =IF(D2=37,1776,1736) -> 1736
A6: Max. volle LV x U-Wochen | C6: A x 5/6 | D6: Lehrverpflichtung 22 | G6: Lehrverpflichtung 21 | J6: Lehrverpflichtung 22 | M6: Lehrverpflichtung 21
A7: Wöch. | B7: Aufgaben- | C7: Aufgaben- | D7: Aufgaben- | E7: Jahres- | F7: Beschäft.- | G7: Aufgaben- | H7: Jahres- | I7: Beschäft.- | J7: Aufgaben- | K7: Jahres- | L7: Beschäft.- | M7: Aufgaben- | N7: Jahres- | O7: Beschäft.-
A8: Unterr.Ver- | B8: Bereich | C8: Bereich | D8: Bereich | E8: norm | F8: ausmaß | G8: Bereich | H8: norm | I8: ausmaß | J8: Bereich | K8: norm | L8: ausmaß | M8: Bereich | N8: norm | O8: ausmaß
A9: pflichtung | B9: A | C9: B | D9: C | F9: in % | G9: C | I9: in % | J9: C | L9: in % | M9: C | O9: in %
A10: 22 | B10: =ROUND(A10*$D$2,0) -> 792 | C10: =ROUND(B10*5/6,0) -> 660 | D10: =E10-(B10+C10) -> 324 | E10: =$G$5 -> 1776 | F10: =ROUND(100/$A$10*A10,2) -> 100 | J10: =K10-(B10+C10) -> 284 | K10: =$M$5 -> 1736 | L10: =ROUND(100/$A$10*A10,2) -> 100
A11: 21 | B11: =ROUND(A11*$D$2,0) -> 756 | C11: =ROUND(B11*5/6,0) -> 630 | D11: =E11-(B11+C11) -> 309 | E11: =ROUNDDOWN($E$10/100*F11,0) -> 1695 | F11: =ROUND(100/$A$10*A11,2) -> 95.45 | G11: =H11-(B11+C11) -> 390 | H11: =ROUNDDOWN($E$10/100*I11,0) -> 1776 | I11: =ROUND(100/$A$11*A11,2) -> 100 | J11: =K11-(B11+C11) -> 271 | K11: =ROUNDDOWN($K$10/100*L11,0) -> 1657 | L11: =ROUND(100/$A$10*A11,2) -> 95.45 | M11: =N11-(B11+C11) -> 350 | N11: =ROUNDDOWN($K$10/100*O11,0) -> 1736 | O11: =ROUND(100/$A$11*A11,2) -> 100
A12: 20 | B12: =ROUND(A12*$D$2,0) -> 720 | C12: =ROUND(B12*5/6,0) -> 600 | D12: =E12-(B12+C12) -> 294 | E12: =ROUNDDOWN($E$10/100*F12,0) -> 1614 | F12: =ROUND(100/$A$10*A12,2) -> 90.91 | G12: =H12-(B12+C12) -> 371 | H12: =ROUNDDOWN($E$10/100*I12,0) -> 1691 | I12: =ROUND(100/$A$11*A12,2) -> 95.24 | J12: =K12-(B12+C12) -> 258 | K12: =ROUNDDOWN($K$10/100*L12,0) -> 1578 | L12: =ROUND(100/$A$10*A12,2) -> 90.91 | M12: =N12-(B12+C12) -> 333 | N12: =ROUNDDOWN($K$10/100*O12,0) -> 1653 | O12: =ROUND(100/$A$11*A12,2) -> 95.24
A13: 19 | B13: =ROUND(A13*$D$2,0) -> 684 | C13: =ROUND(B13*5/6,0) -> 570 | D13: =E13-(B13+C13) -> 279 | E13: =ROUNDDOWN($E$10/100*F13,0) -> 1533 | F13: =ROUND(100/$A$10*A13,2) -> 86.36 | G13: =H13-(B13+C13) -> 352 | H13: =ROUNDDOWN($E$10/100*I13,0) -> 1606 | I13: =ROUND(100/$A$11*A13,2) -> 90.48 | J13: =K13-(B13+C13) -> 245 | K13: =ROUNDDOWN($K$10/100*L13,0) -> 1499 | L13: =ROUND(100/$A$10*A13,2) -> 86.36 | M13: =N13-(B13+C13) -> 316 | N13: =ROUNDDOWN($K$10/100*O13,0) -> 1570 | O13: =ROUND(100/$A$11*A13,2) -> 90.48
A14: 18 | B14: =ROUND(A14*$D$2,0) -> 648 | C14: =ROUND(B14*5/6,0) -> 540 | D14: =E14-(B14+C14) -> 265 | E14: =ROUNDDOWN($E$10/100*F14,0) -> 1453 | F14: =ROUND(100/$A$10*A14,2) -> 81.82 | G14: =H14-(B14+C14) -> 334 | H14: =ROUNDDOWN($E$10/100*I14,0) -> 1522 | I14: =ROUND(100/$A$11*A14,2) -> 85.71 | J14: =K14-(B14+C14) -> 232 | K14: =ROUNDDOWN($K$10/100*L14,0) -> 1420 | L14: =ROUND(100/$A$10*A14,2) -> 81.82 | M14: =N14-(B14+C14) -> 299 | N14: =ROUNDDOWN($K$10/100*O14,0) -> 1487 | O14: =ROUND(100/$A$11*A14,2) -> 85.71
A15: 17 | B15: =ROUND(A15*$D$2,0) -> 612 | C15: =ROUND(B15*5/6,0) -> 510 | D15: =E15-(B15+C15) -> 250 | E15: =ROUNDDOWN($E$10/100*F15,0) -> 1372 | F15: =ROUND(100/$A$10*A15,2) -> 77.27 | G15: =H15-(B15+C15) -> 315 | H15: =ROUNDDOWN($E$10/100*I15,0) -> 1437 | I15: =ROUND(100/$A$11*A15,2) -> 80.95 | J15: =K15-(B15+C15) -> 219 | K15: =ROUNDDOWN($K$10/100*L15,0) -> 1341 | L15: =ROUND(100/$A$10*A15,2) -> 77.27 | M15: =N15-(B15+C15) -> 283 | N15: =ROUNDDOWN($K$10/100*O15,0) -> 1405 | O15: =ROUND(100/$A$11*A15,2) -> 80.95
A16: 16 | B16: =ROUND(A16*$D$2,0) -> 576 | C16: =ROUND(B16*5/6,0) -> 480 | D16: =E16-(B16+C16) -> 235 | E16: =ROUNDDOWN($E$10/100*F16,0) -> 1291 | F16: =ROUND(100/$A$10*A16,2) -> 72.73 | G16: =H16-(B16+C16) -> 297 | H16: =ROUNDDOWN($E$10/100*I16,0) -> 1353 | I16: =ROUND(100/$A$11*A16,2) -> 76.19 | J16: =K16-(B16+C16) -> 206 | K16: =ROUNDDOWN($K$10/100*L16,0) -> 1262 | L16: =ROUND(100/$A$10*A16,2) -> 72.73 | M16: =N16-(B16+C16) -> 266 | N16: =ROUNDDOWN($K$10/100*O16,0) -> 1322 | O16: =ROUND(100/$A$11*A16,2) -> 76.19
A17: 15 | B17: =ROUND(A17*$D$2,0) -> 540 | C17: =ROUND(B17*5/6,0) -> 450 | D17: =E17-(B17+C17) -> 220 | E17: =ROUNDDOWN($E$10/100*F17,0) -> 1210 | F17: =ROUND(100/$A$10*A17,2) -> 68.18 | G17: =H17-(B17+C17) -> 278 | H17: =ROUNDDOWN($E$10/100*I17,0) -> 1268 | I17: =ROUND(100/$A$11*A17,2) -> 71.43 | J17: =K17-(B17+C17) -> 193 | K17: =ROUNDDOWN($K$10/100*L17,0) -> 1183 | L17: =ROUND(100/$A$10*A17,2) -> 68.18 | M17: =N17-(B17+C17) -> 250 | N17: =ROUNDDOWN($K$10/100*O17,0) -> 1240 | O17: =ROUND(100/$A$11*A17,2) -> 71.43
A18: 14 | B18: =ROUND(A18*$D$2,0) -> 504 | C18: =ROUND(B18*5/6,0) -> 420 | D18: =E18-(B18+C18) -> 206 | E18: =ROUNDDOWN($E$10/100*F18,0) -> 1130 | F18: =ROUND(100/$A$10*A18,2) -> 63.64 | G18: =H18-(B18+C18) -> 260 | H18: =ROUNDDOWN($E$10/100*I18,0) -> 1184 | I18: =ROUND(100/$A$11*A18,2) -> 66.67 | J18: =K18-(B18+C18) -> 180 | K18: =ROUNDDOWN($K$10/100*L18,0) -> 1104 | L18: =ROUND(100/$A$10*A18,2) -> 63.64 | M18: =N18-(B18+C18) -> 233 | N18: =ROUNDDOWN($K$10/100*O18,0) -> 1157 | O18: =ROUND(100/$A$11*A18,2) -> 66.67
A19: 13 | B19: =ROUND(A19*$D$2,0) -> 468 | C19: =ROUND(B19*5/6,0) -> 390 | D19: =E19-(B19+C19) -> 191 | E19: =ROUNDDOWN($E$10/100*F19,0) -> 1049 | F19: =ROUND(100/$A$10*A19,2) -> 59.09 | G19: =H19-(B19+C19) -> 241 | H19: =ROUNDDOWN($E$10/100*I19,0) -> 1099 | I19: =ROUND(100/$A$11*A19,2) -> 61.9 | J19: =K19-(B19+C19) -> 167 | K19: =ROUNDDOWN($K$10/100*L19,0) -> 1025 | L19: =ROUND(100/$A$10*A19,2) -> 59.09 | M19: =N19-(B19+C19) -> 216 | N19: =ROUNDDOWN($K$10/100*O19,0) -> 1074 | O19: =ROUND(100/$A$11*A19,2) -> 61.9
A20: 12 | B20: =ROUND(A20*$D$2,0) -> 432 | C20: =ROUND(B20*5/6,0) -> 360 | D20: =E20-(B20+C20) -> 176 | E20: =ROUNDDOWN($E$10/100*F20,0) -> 968 | F20: =ROUND(100/$A$10*A20,2) -> 54.55 | G20: =H20-(B20+C20) -> 222 | H20: =ROUNDDOWN($E$10/100*I20,0) -> 1014 | I20: =ROUND(100/$A$11*A20,2) -> 57.14 | J20: =K20-(B20+C20) -> 154 | K20: =ROUNDDOWN($K$10/100*L20,0) -> 946 | L20: =ROUND(100/$A$10*A20,2) -> 54.55 | M20: =N20-(B20+C20) -> 199 | N20: =ROUNDDOWN($K$10/100*O20,0) -> 991 | O20: =ROUND(100/$A$11*A20,2) -> 57.14
A21: 11 | B21: =ROUND(A21*$D$2,0) -> 396 | C21: =ROUND(B21*5/6,0) -> 330 | D21: =E21-(B21+C21) -> 162 | E21: =ROUNDDOWN($E$10/100*F21,0) -> 888 | F21: =ROUND(100/$A$10*A21,2) -> 50 | G21: =H21-(B21+C21) -> 204 | H21: =ROUNDDOWN($E$10/100*I21,0) -> 930 | I21: =ROUND(100/$A$11*A21,2) -> 52.38 | J21: =K21-(B21+C21) -> 142 | K21: =ROUNDDOWN($K$10/100*L21,0) -> 868 | L21: =ROUND(100/$A$10*A21,2) -> 50 | M21: =N21-(B21+C21) -> 183 | N21: =ROUNDDOWN($K$10/100*O21,0) -> 909 | O21: =ROUND(100/$A$11*A21,2) -> 52.38
A22: 10 | B22: =ROUND(A22*$D$2,0) -> 360 | C22: =ROUND(B22*5/6,0) -> 300 | D22: =E22-(B22+C22) -> 147 | E22: =ROUNDDOWN($E$10/100*F22,0) -> 807 | F22: =ROUND(100/$A$10*A22,2) -> 45.45 | G22: =H22-(B22+C22) -> 185 | H22: =ROUNDDOWN($E$10/100*I22,0) -> 845 | I22: =ROUND(100/$A$11*A22,2) -> 47.62 | J22: =K22-(B22+C22) -> 129 | K22: =ROUNDDOWN($K$10/100*L22,0) -> 789 | L22: =ROUND(100/$A$10*A22,2) -> 45.45 | M22: =N22-(B22+C22) -> 166 | N22: =ROUNDDOWN($K$10/100*O22,0) -> 826 | O22: =ROUND(100/$A$11*A22,2) -> 47.62
... A31: 1 | B31: =ROUND(A31*$D$2,0) -> 36 | C31: =ROUND(B31*5/6,0) -> 30 | D31: =E31-(B31+C31) -> 14 | E31: =ROUNDDOWN($E$10/100*F31,0) -> 80 | F31: =ROUND(100/$A$10*A31,2) -> 4.55 | G31: =H31-(B31+C31) -> 18 | H31: =ROUNDDOWN($E$10/100*I31,0) -> 84 | I31: =ROUND(100/$A$11*A31,2) -> 4.76 | J31: =K31-(B31+C31) -> 12 | K31: =ROUNDDOWN($K$10/100*L31,0) -> 78 | L31: =ROUND(100/$A$10*A31,2) -> 4.55 | M31: =N31-(B31+C31) -> 16 | N31: =ROUNDDOWN($K$10/100*O31,0) -> 82 | O31: =ROUND(100/$A$11*A31,2) -> 4.76

Sheet C-Teil
A1: Teilbeschäftigung - anteiliges Stundenausmaß im C-Teil (die 66 Std. für Klassenvorstand und Klassenführung werden nicht aliquotiert)
E2: =Jahresnorm!I2 -> Version:11.03.2026
B3: Lehrverpflichtung 22 | G3: Lehrverpflichtung 21
A4: Wöch. | B4: Beschäft.- | C4: § 43 (3) Z 4 LDG | D4: § 43 (3) Z 3 LDG | E4: § 43 (3) Z 2 LDG | F4: § 43 (3) Z 1 LDG | G4: Beschäft.- | H4: § 43 (3) Z 4 LDG | I4: § 43 (3) Z 3 LDG | J4: § 43 (3) Z 2 LDG | K4: § 43 (3) Z 1 LDG
A5: Unterr.Ver- | B5: ausmaß | C5: Fortbildung | D5: Vertretung | E5: Klassenvorst. | F5: sonst.LA-Pfl. | G5: ausmaß | H5: Fortbildung | I5: Vertretung | J5: Klassenvorst. | K5: sonst.LA-Pfl.
A6: pflichtung | B6: in % | C6: in Std. | D6: in Std. | E6: in Std. | F6: in Std. | G6: in % | H6: in Std. | I6: in Std. | J6: in Std. | K6: in Std.
A7: 22 | B7: =ROUND(100/$A$7*A7,2) -> 100 | C7: 15 | D7: 20 | E7: 66 | F7: =ROUND(B7,0) -> 100
A8: 21 | B8: =ROUND(100/$A$7*A8,2) -> 95.45 | C8: =ROUNDDOWN($C$7/100*B8,0) -> 14 | D8: =ROUND($D$7/100*B8,0) -> 19 | E8: 66 | F8: =ROUND(B8,0) -> 95 | G8: =ROUND(100/$A$8*A8,2) -> 100 | H8: 15 | I8: 20 | J8: 66 | K8: =ROUND(G8,0) -> 100
A9: 20 | B9: =ROUND(100/$A$7*A9,2) -> 90.91 | C9: =ROUNDDOWN($C$7/100*B9,0) -> 13 | D9: =ROUND($D$7/100*B9,0) -> 18 | E9: 66 | F9: =ROUND(B9,0) -> 91 | G9: =ROUND(100/$A$8*A9,2) -> 95.24 | H9: =ROUNDDOWN($H$8/100*G9,0) -> 14 | I9: =ROUND($I$8/100*G9,0) -> 19 | J9: 66 | K9: =ROUND(G9,0) -> 95
A10: 19 | B10: =ROUND(100/$A$7*A10,2) -> 86.36 | C10: =ROUNDDOWN($C$7/100*B10,0) -> 12 | D10: =ROUND($D$7/100*B10,0) -> 17 | E10: 66 | F10: =ROUND(B10,0) -> 86 | G10: =ROUND(100/$A$8*A10,2) -> 90.48 | H10: =ROUNDDOWN($H$8/100*G10,0) -> 13 | I10: =ROUND($I$8/100*G10,0) -> 18 | J10: 66 | K10: =ROUND(G10,0) -> 90
A11: 18 | B11: =ROUND(100/$A$7*A11,2) -> 81.82 | C11: =ROUNDDOWN($C$7/100*B11,0) -> 12 | D11: =ROUND($D$7/100*B11,0) -> 16 | E11: 66 | F11: =ROUND(B11,0) -> 82 | G11: =ROUND(100/$A$8*A11,2) -> 85.71 | H11: =ROUNDDOWN($H$8/100*G11,0) -> 12 | I11: =ROUND($I$8/100*G11,0) -> 17 | J11: 66 | K11: =ROUND(G11,0) -> 86
A12: 17 | B12: =ROUND(100/$A$7*A12,2) -> 77.27 | C12: =ROUNDDOWN($C$7/100*B12,0) -> 11 | D12: =ROUND($D$7/100*B12,0) -> 15 | E12: 66 | F12: =ROUND(B12,0) -> 77 | G12: =ROUND(100/$A$8*A12,2) -> 80.95 | H12: =ROUNDDOWN($H$8/100*G12,0) -> 12 | I12: =ROUND($I$8/100*G12,0) -> 16 | J12: 66 | K12: =ROUND(G12,0) -> 81
A13: 16 | B13: =ROUND(100/$A$7*A13,2) -> 72.73 | C13: =ROUNDDOWN($C$7/100*B13,0) -> 10 | D13: =ROUND($D$7/100*B13,0) -> 15 | E13: 66 | F13: =ROUND(B13,0) -> 73 | G13: =ROUND(100/$A$8*A13,2) -> 76.19 | H13: =ROUNDDOWN($H$8/100*G13,0) -> 11 | I13: =ROUND($I$8/100*G13,0) -> 15 | J13: 66 | K13: =ROUND(G13,0) -> 76
A14: 15 | B14: =ROUND(100/$A$7*A14,2) -> 68.18 | C14: =ROUNDDOWN($C$7/100*B14,0) -> 10 | D14: =ROUND($D$7/100*B14,0) -> 14 | E14: 66 | F14: =ROUND(B14,0) -> 68 | G14: =ROUND(100/$A$8*A14,2) -> 71.43 | H14: =ROUNDDOWN($H$8/100*G14,0) -> 10 | I14: =ROUND($I$8/100*G14,0) -> 14 | J14: 66 | K14: =ROUND(G14,0) -> 71
A15: 14 | B15: =ROUND(100/$A$7*A15,2) -> 63.64 | C15: =ROUNDDOWN($C$7/100*B15,0) -> 9 | D15: =ROUND($D$7/100*B15,0) -> 13 | E15: 66 | F15: =ROUND(B15,0) -> 64 | G15: =ROUND(100/$A$8*A15,2) -> 66.67 | H15: =ROUNDDOWN($H$8/100*G15,0) -> 10 | I15: =ROUND($I$8/100*G15,0) -> 13 | J15: 66 | K15: =ROUND(G15,0) -> 67
A16: 13 | B16: =ROUND(100/$A$7*A16,2) -> 59.09 | C16: =ROUNDDOWN($C$7/100*B16,0) -> 8 | D16: =ROUND($D$7/100*B16,0) -> 12 | E16: 66 | F16: =ROUND(B16,0) -> 59 | G16: =ROUND(100/$A$8*A16,2) -> 61.9 | H16: =ROUNDDOWN($H$8/100*G16,0) -> 9 | I16: =ROUND($I$8/100*G16,0) -> 12 | J16: 66 | K16: =ROUND(G16,0) -> 62
A17: 12 | B17: =ROUND(100/$A$7*A17,2) -> 54.55 | C17: =ROUNDDOWN($C$7/100*B17,0) -> 8 | D17: =ROUND($D$7/100*B17,0) -> 11 | E17: 66 | F17: =ROUND(B17,0) -> 55 | G17: =ROUND(100/$A$8*A17,2) -> 57.14 | H17: =ROUNDDOWN($H$8/100*G17,0) -> 8 | I17: =ROUND($I$8/100*G17,0) -> 11 | J17: 66 | K17: =ROUND(G17,0) -> 57
A18: 11 | B18: =ROUND(100/$A$7*A18,2) -> 50 | C18: =ROUNDDOWN($C$7/100*B18,0) -> 7 | D18: =ROUND($D$7/100*B18,0) -> 10 | E18: 66 | F18: =ROUND(B18,0) -> 50 | G18: =ROUND(100/$A$8*A18,2) -> 52.38 | H18: =ROUNDDOWN($H$8/100*G18,0) -> 7 | I18: =ROUND($I$8/100*G18,0) -> 10 | J18: 66 | K18: =ROUND(G18,0) -> 52
A19: 10 | B19: =ROUND(100/$A$7*A19,2) -> 45.45 | C19: =ROUNDDOWN($C$7/100*B19,0) -> 6 | D19: =ROUND($D$7/100*B19,0) -> 9 | E19: 66 | F19: =ROUND(B19,0) -> 45 | G19: =ROUND(100/$A$8*A19,2) -> 47.62 | H19: =ROUNDDOWN($H$8/100*G19,0) -> 7 | I19: =ROUND($I$8/100*G19,0) -> 10 | J19: 66 | K19: =ROUND(G19,0) -> 48
A20: 9 | B20: =ROUND(100/$A$7*A20,2) -> 40.91 | C20: =ROUNDDOWN($C$7/100*B20,0) -> 6 | D20: =ROUND($D$7/100*B20,0) -> 8 | E20: 66 | F20: =ROUND(B20,0) -> 41 | G20: =ROUND(100/$A$8*A20,2) -> 42.86 | H20: =ROUNDDOWN($H$8/100*G20,0) -> 6 | I20: =ROUND($I$8/100*G20,0) -> 9 | J20: 66 | K20: =ROUND(G20,0) -> 43
... A28: 1 | B28: =ROUND(100/$A$7*A28,2) -> 4.55 | C28: =ROUNDDOWN($C$7/100*B28,0) -> 0 | D28: =ROUND($D$7/100*B28,0) -> 1 | E28: 66 | F28: =ROUND(B28,0) -> 5 | G28: =ROUND(100/$A$8*A28,2) -> 4.76 | H28: =ROUNDDOWN($H$8/100*G28,0) -> 0 | I28: =ROUND($I$8/100*G28,0) -> 1 | J28: 66 | K28: =ROUND(G28,0) -> 5
